BEGIN:VCALENDAR
PRODID:-//eluceo/ical//2.0/EN
VERSION:2.0
CALSCALE:GREGORIAN
BEGIN:VEVENT
UID:6debec25dd87e1090668f5214d20d7dd
DTSTAMP:20260420T130120Z
SUMMARY:Luftwaffe in Bewegung
DESCRIPTION:Brigadier Soller wird zu den aktuellen Herausforderungen der Sc
 hweizer Luftwaffe referieren. Luftpolizeidienst\, Kampfflugzeugbeschaffung
  oder Herausforderungn durch die Verbreitung von Drohnen werden einige der
  Themen sein.\nTalare: Brigadier Peter Soller / Kommandant Lehrverband Fli
 eger 31
URL:https://rotary-chur.ch/sv/agenda/show/85794
DTSTART;TZID=Europe/Zurich:20180410T121500
DTEND;TZID=Europe/Zurich:20180410T133000
LOCATION:Restaurant VA BENE (Chur)
CATEGORIES:Rotary
END:VEVENT
BEGIN:VTIMEZONE
TZID:Europe/Zurich
BEGIN:DAYLIGHT
DTSTART:20180410T121500
TZNAME:CEST
TZOFFSETTO:+0200
TZOFFSETFROM:+0200
END:DAYLIGHT
END:VTIMEZONE
END:VCALENDAR
