BEGIN:VCALENDAR
PRODID:-//eluceo/ical//2.0/EN
VERSION:2.0
CALSCALE:GREGORIAN
BEGIN:VEVENT
UID:7f3d57f80b77f6ee11a7b65a7a8b3c25
DTSTAMP:20260420T093026Z
SUMMARY:Plauderlunch
DESCRIPTION:Plauderlunch ohne Referat\, Förderung des Austausches und der 
 Diskussion zwischen den Rotariern.\nTalare: n.a.
URL:https://rotary-chur.ch/sv/agenda/show/85791
DTSTART;TZID=Europe/Zurich:20180403T121500
DTEND;TZID=Europe/Zurich:20180403T133000
LOCATION:Restaurant VA BENE (Chur)
CATEGORIES:Rotary
END:VEVENT
BEGIN:VTIMEZONE
TZID:Europe/Zurich
BEGIN:DAYLIGHT
DTSTART:20180403T121500
TZNAME:CEST
TZOFFSETTO:+0200
TZOFFSETFROM:+0200
END:DAYLIGHT
END:VTIMEZONE
END:VCALENDAR
