BEGIN:VCALENDAR
PRODID:-//eluceo/ical//2.0/EN
VERSION:2.0
CALSCALE:GREGORIAN
BEGIN:VEVENT
UID:c64c1ffe23671c0190950f23934ec797
DTSTAMP:20260420T092614Z
SUMMARY:Body mobility
DESCRIPTION:Corsin Federspiel gibt uns einen Einblick in die Mobilisierung 
 im allgemeinen und nach Verletzungen sowie deren Bedeutung für einen gesu
 nden Lebensstil.\nTalare: Corsin Federspiel / Physiotherapeut FH\nInhaber 
 fisiozone
URL:https://rotary-chur.ch/sv/agenda/show/82934
DTSTART;TZID=Europe/Zurich:20180320T121500
DTEND;TZID=Europe/Zurich:20180320T133000
LOCATION:Restaurant VA BENE (Chur)
CATEGORIES:Rotary
END:VEVENT
BEGIN:VTIMEZONE
TZID:Europe/Zurich
BEGIN:STANDARD
DTSTART:20180320T121500
TZNAME:CET
TZOFFSETTO:+0100
TZOFFSETFROM:+0100
END:STANDARD
END:VTIMEZONE
END:VCALENDAR
