BEGIN:VCALENDAR
PRODID:-//eluceo/ical//2.0/EN
VERSION:2.0
CALSCALE:GREGORIAN
BEGIN:VEVENT
UID:f6f4cb3da0dc1a17970255a91b6f7ef2
DTSTAMP:20260420T125559Z
SUMMARY:Plauderlunch inkl. Vorstellung Neuaufnahmen
DESCRIPTION:Plauderlunch ohne Referat\, Förderung des Austausches und der 
 Diskussion zwischen den Rotariern.\n\nVorstellung der geplanten Neuaufnahm
 en 2018/19\nTalare: n.a.
URL:https://rotary-chur.ch/sv/agenda/show/82924
DTSTART;TZID=Europe/Zurich:20180109T121500
DTEND;TZID=Europe/Zurich:20180109T133000
LOCATION:Restaurant VA BENE (Chur)
CATEGORIES:Rotary
END:VEVENT
BEGIN:VTIMEZONE
TZID:Europe/Zurich
BEGIN:STANDARD
DTSTART:20180109T121500
TZNAME:CET
TZOFFSETTO:+0100
TZOFFSETFROM:+0100
END:STANDARD
END:VTIMEZONE
END:VCALENDAR
