BEGIN:VCALENDAR
PRODID:-//eluceo/ical//2.0/EN
VERSION:2.0
CALSCALE:GREGORIAN
BEGIN:VEVENT
UID:8c0332475ccc9c1104a903e7eb981e57
DTSTAMP:20260420T102159Z
SUMMARY:Abendanlass: Weihnachtsessen
DESCRIPTION:Weihnachtsessen - separate Einladung\nTalare: n.a.
URL:https://rotary-chur.ch/sv/agenda/show/79737
DTSTART;TZID=Europe/Zurich:20171216T190000
DTEND;TZID=Europe/Zurich:20171216T230000
LOCATION:Restaurant Schloss Brandis\, Maienfeld
CATEGORIES:Rotary
END:VEVENT
BEGIN:VTIMEZONE
TZID:Europe/Zurich
BEGIN:STANDARD
DTSTART:20171216T190000
TZNAME:CET
TZOFFSETTO:+0100
TZOFFSETFROM:+0100
END:STANDARD
END:VTIMEZONE
END:VCALENDAR
