BEGIN:VCALENDAR
PRODID:-//eluceo/ical//2.0/EN
VERSION:2.0
CALSCALE:GREGORIAN
BEGIN:VEVENT
UID:80aeaec7b53caa6fa27422779bfe3ce3
DTSTAMP:20260420T084607Z
SUMMARY:Herausforderung für Menschen mit Behinderung
DESCRIPTION:Talare: Rotarier Dr. Mario Cavigelli / Vorsteher des Bau- Verke
 hrs- und Forstdepartements Graubünden
URL:https://rotary-chur.ch/sv/agenda/show/75768
DTSTART;TZID=Europe/Zurich:20170829T121500
DTEND;TZID=Europe/Zurich:20170829T133000
LOCATION:Restaurant VA BENE (Chur)
CATEGORIES:Rotary
END:VEVENT
BEGIN:VTIMEZONE
TZID:Europe/Zurich
BEGIN:DAYLIGHT
DTSTART:20170829T121500
TZNAME:CEST
TZOFFSETTO:+0200
TZOFFSETFROM:+0200
END:DAYLIGHT
END:VTIMEZONE
END:VCALENDAR
