BEGIN:VCALENDAR
PRODID:-//eluceo/ical//2.0/EN
VERSION:2.0
CALSCALE:GREGORIAN
BEGIN:VEVENT
UID:8998a0234830a95ddd60310b799433fd
DTSTAMP:20260424T084511Z
SUMMARY:Generalversammlung
DESCRIPTION:Generalversammlung Clubjahr 2017/2018\nRelatore/i: Rot. Rolf A.
  Steiner / Präsident RC Chur
URL:https://rotary-chur.ch/it/agenda/show/79720
DTSTART;TZID=Europe/Zurich:20171114T121500
DTEND;TZID=Europe/Zurich:20171114T133000
LOCATION:Restaurant VA BENE (Chur)
CATEGORIES:Rotary
END:VEVENT
BEGIN:VTIMEZONE
TZID:Europe/Zurich
BEGIN:STANDARD
DTSTART:20171114T121500
TZNAME:CET
TZOFFSETTO:+0100
TZOFFSETFROM:+0100
END:STANDARD
END:VTIMEZONE
END:VCALENDAR
