BEGIN:VCALENDAR
PRODID:-//eluceo/ical//2.0/EN
VERSION:2.0
CALSCALE:GREGORIAN
BEGIN:VEVENT
UID:3412633a557dc2b1a8b55410cb588953
DTSTAMP:20260421T111424Z
SUMMARY:Plauderlunch gemeinsam mit RC Chur - Herrschaft
DESCRIPTION:Gemeinsames Pluderlunch mit dem RC Chur Herrschaft zur Förderu
 ng des Autausches zwischen den Rotariern.\nFyrirlesari(ar): n.a.
URL:https://rotary-chur.ch/is/agenda/show/82928
DTSTART;TZID=Europe/Zurich:20180206T121500
DTEND;TZID=Europe/Zurich:20180206T133000
LOCATION:Restaurant VA BENE (Chur)
CATEGORIES:Rotary
END:VEVENT
BEGIN:VTIMEZONE
TZID:Europe/Zurich
BEGIN:STANDARD
DTSTART:20180206T121500
TZNAME:CET
TZOFFSETTO:+0100
TZOFFSETFROM:+0100
END:STANDARD
END:VTIMEZONE
END:VCALENDAR
