BEGIN:VCALENDAR
PRODID:-//eluceo/ical//2.0/EN
VERSION:2.0
CALSCALE:GREGORIAN
BEGIN:VEVENT
UID:62e57cddd90cbb9f76ee74f49dca88c3
DTSTAMP:20260424T195816Z
SUMMARY:Energiekonzepte in Chur und der Region: Der Weg in eine energiesich
 ere Zukunft?
DESCRIPTION:Martin Derungs (Direktor IBC)\nConférencier(s): Martin Derungs
  (Direktor IBC)
URL:https://rotary-chur.ch/fr/agenda/show/90257
DTSTART;TZID=Europe/Zurich:20181009T121500
DTEND;TZID=Europe/Zurich:20181009T121500
LOCATION:Restaurant VA BENE (Chur)
CATEGORIES:Rotary
END:VEVENT
BEGIN:VTIMEZONE
TZID:Europe/Zurich
BEGIN:DAYLIGHT
DTSTART:20181009T121500
TZNAME:CEST
TZOFFSETTO:+0200
TZOFFSETFROM:+0200
END:DAYLIGHT
END:VTIMEZONE
END:VCALENDAR
