BEGIN:VCALENDAR
PRODID:-//eluceo/ical//2.0/EN
VERSION:2.0
CALSCALE:GREGORIAN
BEGIN:VEVENT
UID:da410b2b97d5bf1b58999334e1a2e8e1
DTSTAMP:20260424T082237Z
SUMMARY:Besuch des neuen Kantonsspitals
DESCRIPTION:Conférencier(s): Abendanlass mit Damen
URL:https://rotary-chur.ch/fr/agenda/show/108385
DTSTART;TZID=Europe/Zurich:20200128T174500
DTEND;TZID=Europe/Zurich:20200128T203000
LOCATION:Kantonsspital Chur
CATEGORIES:Rotary
END:VEVENT
BEGIN:VTIMEZONE
TZID:Europe/Zurich
BEGIN:STANDARD
DTSTART:20200128T174500
TZNAME:CET
TZOFFSETTO:+0100
TZOFFSETFROM:+0100
END:STANDARD
END:VTIMEZONE
END:VCALENDAR
