BEGIN:VCALENDAR
PRODID:-//eluceo/ical//2.0/EN
VERSION:2.0
CALSCALE:GREGORIAN
BEGIN:VEVENT
UID:6239ce7ce53ad4ba295e1de51b5de611
DTSTAMP:20260421T105723Z
SUMMARY:Jahresschlussfeier
DESCRIPTION:Conférencier(s): Gemäss separatem Programm
URL:https://rotary-chur.ch/fr/agenda/show/105550
DTSTART;TZID=Europe/Zurich:20191130T184500
DTEND;TZID=Europe/Zurich:20191130T230000
LOCATION:Restaurant VA BENE (Chur)
CATEGORIES:Rotary
END:VEVENT
BEGIN:VTIMEZONE
TZID:Europe/Zurich
BEGIN:STANDARD
DTSTART:20191130T184500
TZNAME:CET
TZOFFSETTO:+0100
TZOFFSETFROM:+0100
END:STANDARD
END:VTIMEZONE
END:VCALENDAR
