BEGIN:VCALENDAR
PRODID:-//eluceo/ical//2.0/EN
VERSION:2.0
CALSCALE:GREGORIAN
BEGIN:VEVENT
UID:da78d968feff8c70066433d2b693491d
DTSTAMP:20260423T125459Z
SUMMARY:Besuch ESPROS PHOTONICS
DESCRIPTION:Site internet: https://www.espros.com/\nConférencier(s): Beat 
 De Coi: Herausforderungen für Startups\nBesuch ESPROS PHOTONICS\, Sargans
 \nTreffpunkt Bahnhof Chur 17:45 Uhr
URL:https://rotary-chur.ch/fr/agenda/show/105542
DTSTART;TZID=Europe/Zurich:20191008T174500
DTEND;TZID=Europe/Zurich:20191008T210000
LOCATION:Sargans
CATEGORIES:Rotary
END:VEVENT
BEGIN:VTIMEZONE
TZID:Europe/Zurich
BEGIN:DAYLIGHT
DTSTART:20191008T174500
TZNAME:CEST
TZOFFSETTO:+0200
TZOFFSETFROM:+0200
END:DAYLIGHT
END:VTIMEZONE
END:VCALENDAR
