BEGIN:VCALENDAR
PRODID:-//eluceo/ical//2.0/EN
VERSION:2.0
CALSCALE:GREGORIAN
BEGIN:VEVENT
UID:b5b11ae4de36bcf100bf99f47aad5485
DTSTAMP:20260423T130644Z
SUMMARY:Frühstück
DESCRIPTION:Menu: Frühstück\nConférencier(s): Luana Bolliger: Bericht ü
 ber ihr Austauschjahr
URL:https://rotary-chur.ch/fr/agenda/show/105541
DTSTART;TZID=Europe/Zurich:20191001T070000
DTEND;TZID=Europe/Zurich:20191001T083000
LOCATION:Restaurant VA BENE (Chur)
CATEGORIES:Rotary
END:VEVENT
BEGIN:VTIMEZONE
TZID:Europe/Zurich
BEGIN:DAYLIGHT
DTSTART:20191001T070000
TZNAME:CEST
TZOFFSETTO:+0200
TZOFFSETFROM:+0200
END:DAYLIGHT
END:VTIMEZONE
END:VCALENDAR
