BEGIN:VCALENDAR
PRODID:-//eluceo/ical//2.0/EN
VERSION:2.0
CALSCALE:GREGORIAN
BEGIN:VEVENT
UID:06cad3406c12da95e730228b3d1e5081
DTSTAMP:20260424T084109Z
SUMMARY:Kinderheim Honduras\, Projekt für Unterstützung durch Stadtfest
DESCRIPTION:Conférencier(s): Patricia Scarpatetti
URL:https://rotary-chur.ch/fr/agenda/show/101187
DTSTART;TZID=Europe/Zurich:20190709T120000
DTEND;TZID=Europe/Zurich:20190709T133000
LOCATION:Restaurant VA BENE (Chur)
CATEGORIES:Rotary
END:VEVENT
BEGIN:VTIMEZONE
TZID:Europe/Zurich
BEGIN:DAYLIGHT
DTSTART:20190709T120000
TZNAME:CEST
TZOFFSETTO:+0200
TZOFFSETFROM:+0200
END:DAYLIGHT
END:VTIMEZONE
END:VCALENDAR
