BEGIN:VCALENDAR
PRODID:-//eluceo/ical//2.0/EN
VERSION:2.0
CALSCALE:GREGORIAN
BEGIN:VEVENT
UID:184553c5712810c6f955ab131cd44a35
DTSTAMP:20260423T114251Z
SUMMARY:90-Jahr-Feier Rotary Club Chur
DESCRIPTION:Unser Club blickt im Dezember auf eine Geschichte von 90 Jahren
  zurück. Wir freuen uns darüber sehr und wollen dies mit einem Abendanla
 ss gebührend feiern. Im Sinne der rotarischen Grundgedanken dient der Anl
 ass nicht nur der Freundschaft im Club\, denn wir möchten gleichzeitig mi
 t einer Vergabung der Gemeinschaft dienen\, indem ein Teil der Einnahmen d
 er mine-ex-Stiftung zugute kommen soll. Wir freuen uns auf eine rege Teiln
 ahme unserer Mitglieder und speziell danken wir unseren Gästen\, wenn sie
  unsere Einladung annehmen können.\nWebseite: http://www.brandis12.ch
URL:https://rotary-chur.ch/de/agenda/show/90026
DTSTART;TZID=Europe/Zurich:20180929T170000
DTEND;TZID=Europe/Zurich:20180929T233000
LOCATION:Chur\, Restaurant B12\, (Brandissaal)
CATEGORIES:Rotary
END:VEVENT
BEGIN:VTIMEZONE
TZID:Europe/Zurich
BEGIN:DAYLIGHT
DTSTART:20180929T170000
TZNAME:CEST
TZOFFSETTO:+0200
TZOFFSETFROM:+0200
END:DAYLIGHT
END:VTIMEZONE
END:VCALENDAR
