BEGIN:VCALENDAR
PRODID:-//eluceo/ical//2.0/EN
VERSION:2.0
CALSCALE:GREGORIAN
BEGIN:VEVENT
UID:c9e73f577b47d9ce6411c6f4e2d30f24
DTSTAMP:20260423T125742Z
SUMMARY:Zuviel Energie in der Atmosphäre / Mensch gemachter Klimawandel.
DESCRIPTION:Als Professor für Klimaphysik an der ETH Zürich und als Leita
 utor beim Vierten und Fünften Sachstandsbericht des IPCC ist Reto Knutti 
 einer der kompetentesten Wissenschaftler der Welt\, was den durch den Mens
 chen verursachten Klimawandel betrifft.\nReferenten/innen: Prof. Dr. Reto 
 Knutti (ETH ZH)
URL:https://rotary-chur.ch/de/agenda/show/88922
DTSTART;TZID=Europe/Zurich:20180821T121500
DTEND;TZID=Europe/Zurich:20180821T133000
LOCATION:Restaurant VA BENE (Chur)
CATEGORIES:Rotary
END:VEVENT
BEGIN:VTIMEZONE
TZID:Europe/Zurich
BEGIN:DAYLIGHT
DTSTART:20180821T121500
TZNAME:CEST
TZOFFSETTO:+0200
TZOFFSETFROM:+0200
END:DAYLIGHT
END:VTIMEZONE
END:VCALENDAR
